BEGIN:VCALENDAR
VERSION:2.0
PRODID:-//Bodelschwingh Schule - ECPv6.15.20//NONSGML v1.0//EN
CALSCALE:GREGORIAN
METHOD:PUBLISH
X-WR-CALNAME:Bodelschwingh Schule
X-ORIGINAL-URL:https://bodelschwingh-schule.de
X-WR-CALDESC:Veranstaltungen für Bodelschwingh Schule
REFRESH-INTERVAL;VALUE=DURATION:PT1H
X-Robots-Tag:noindex
X-PUBLISHED-TTL:PT1H
BEGIN:VTIMEZONE
TZID:Europe/Berlin
BEGIN:DAYLIGHT
TZOFFSETFROM:+0100
TZOFFSETTO:+0200
TZNAME:CEST
DTSTART:20240331T010000
END:DAYLIGHT
BEGIN:STANDARD
TZOFFSETFROM:+0200
TZOFFSETTO:+0100
TZNAME:CET
DTSTART:20241027T010000
END:STANDARD
BEGIN:DAYLIGHT
TZOFFSETFROM:+0100
TZOFFSETTO:+0200
TZNAME:CEST
DTSTART:20250330T010000
END:DAYLIGHT
BEGIN:STANDARD
TZOFFSETFROM:+0200
TZOFFSETTO:+0100
TZNAME:CET
DTSTART:20251026T010000
END:STANDARD
BEGIN:DAYLIGHT
TZOFFSETFROM:+0100
TZOFFSETTO:+0200
TZNAME:CEST
DTSTART:20260329T010000
END:DAYLIGHT
BEGIN:STANDARD
TZOFFSETFROM:+0200
TZOFFSETTO:+0100
TZNAME:CET
DTSTART:20261025T010000
END:STANDARD
END:VTIMEZONE
BEGIN:VEVENT
DTSTART;VALUE=DATE:20250901
DTEND;VALUE=DATE:20250904
DTSTAMP:20260423T173101
CREATED:20220809T133910Z
LAST-MODIFIED:20250724T071726Z
UID:812-1756684800-1756943999@bodelschwingh-schule.de
SUMMARY:Schulfotografin
DESCRIPTION:Die Schulfotografin kommt: Es werden Klassenfotos und von den Erstklässler:innen auch Portraitfotos gemacht.
URL:https://bodelschwingh-schule.de/event/schulfotografin/
CATEGORIES:Termine
ATTACH;FMTTYPE=image/jpeg:https://bodelschwingh-schule.de/wp-content/uploads/2022/07/A2C8DFDF-8419-4D7A-B395-47E7CCDF72F8.jpeg
END:VEVENT
BEGIN:VEVENT
DTSTART;VALUE=DATE:20250904
DTEND;VALUE=DATE:20250905
DTSTAMP:20260423T173101
CREATED:20220809T134501Z
LAST-MODIFIED:20250724T071907Z
UID:814-1756944000-1757030399@bodelschwingh-schule.de
SUMMARY:Elternabend 1/2
DESCRIPTION:Um 18:30 Uhr beginnen die Klassenpflegschaftssitzungen der Klassen 1/2. \nAb 18:00 Uhr können Sie Einblick in die ausliegenden Lernmaterialien nehmen.
URL:https://bodelschwingh-schule.de/event/elternabend-1-2/
CATEGORIES:Termine
ATTACH;FMTTYPE=image/jpeg:https://bodelschwingh-schule.de/wp-content/uploads/2022/08/4B0D5E09-5868-4A1C-9C95-21633D0D8F52.jpeg
END:VEVENT
BEGIN:VEVENT
DTSTART;VALUE=DATE:20250909
DTEND;VALUE=DATE:20250910
DTSTAMP:20260423T173101
CREATED:20220809T134702Z
LAST-MODIFIED:20250724T072151Z
UID:817-1757376000-1757462399@bodelschwingh-schule.de
SUMMARY:Start Schwimmunterricht
DESCRIPTION:Für die Zweitklässler:innen beginnt ab heute der Schwimmunterricht entsprechend des Stundenplans.
URL:https://bodelschwingh-schule.de/event/start-schwimmuntericht/
CATEGORIES:Termine
ATTACH;FMTTYPE=image/jpeg:https://bodelschwingh-schule.de/wp-content/uploads/2023/06/626D6382-981E-4638-804C-DE33AEA600CD-scaled.jpeg
END:VEVENT
BEGIN:VEVENT
DTSTART;VALUE=DATE:20250910
DTEND;VALUE=DATE:20251009
DTSTAMP:20260423T173101
CREATED:20220817T121849Z
LAST-MODIFIED:20250831T075920Z
UID:1112-1757462400-1759967999@bodelschwingh-schule.de
SUMMARY:„Gewaltfrei Lernen“
DESCRIPTION:In den nächsten Wochen findet das Projekt „Gewaltfrei Lernen“ für alle Jahrgänge statt.
URL:https://bodelschwingh-schule.de/event/gewaltfrei-lernen/
CATEGORIES:Termine
ATTACH;FMTTYPE=image/jpeg:https://bodelschwingh-schule.de/wp-content/uploads/2022/08/3000423D-8137-4916-BA65-5EA79B6B2282-scaled.jpeg
END:VEVENT
BEGIN:VEVENT
DTSTART;TZID=Europe/Berlin:20250910T183000
DTEND;TZID=Europe/Berlin:20250910T183000
DTSTAMP:20260423T173101
CREATED:20220820T083257Z
LAST-MODIFIED:20250724T072034Z
UID:1252-1757529000-1757529000@bodelschwingh-schule.de
SUMMARY:Elternabend 3/4
DESCRIPTION:Um 18:30 Uhr finden heute die Klassenpflegschaftssitzungen der 3/4er-Klassen statt. Wir starten gemeinsam in der Aula.
URL:https://bodelschwingh-schule.de/event/elternabend-3-4/
CATEGORIES:Termine
ATTACH;FMTTYPE=image/jpeg:https://bodelschwingh-schule.de/wp-content/uploads/2022/08/4B0D5E09-5868-4A1C-9C95-21633D0D8F52.jpeg
END:VEVENT
BEGIN:VEVENT
DTSTART;TZID=Europe/Berlin:20250911T183000
DTEND;TZID=Europe/Berlin:20250911T183000
DTSTAMP:20260423T173101
CREATED:20220817T122244Z
LAST-MODIFIED:20250724T072617Z
UID:1116-1757615400-1757615400@bodelschwingh-schule.de
SUMMARY:Infoabend Schulanmeldung
DESCRIPTION:Um 19:30 Uhr findet bei uns in der Aula ein Informationsabend für alle interessierten Eltern der Schulneulinge 2026/2027 statt. Ab 18:30 Uhr besteht die Möglichkeit\, die Räumlichkeiten des Schulgebäudes zu besichtigen. Wenn Sie bereits heute einen Termin zur Schulanmeldung vereinbaren möchten\, bringen Sie Ihren Kalender mit – sonst brauchen Sie nichts. 😊 \nFühlen Sie sich herzlich willkommen – wir freuen uns\, Sie kennenzulernen!
URL:https://bodelschwingh-schule.de/event/infoabend-schulanmeldung/
CATEGORIES:Termine
ATTACH;FMTTYPE=image/jpeg:https://bodelschwingh-schule.de/wp-content/uploads/2022/08/628364AD-9839-4DD1-914F-8CA703C7DE58.jpeg
END:VEVENT
BEGIN:VEVENT
DTSTART;TZID=Europe/Berlin:20250919T100000
DTEND;TZID=Europe/Berlin:20250919T120000
DTSTAMP:20260423T173101
CREATED:20250829T200953Z
LAST-MODIFIED:20250829T202300Z
UID:4981-1758276000-1758283200@bodelschwingh-schule.de
SUMMARY:Tag der offenen Tür
DESCRIPTION:Um die Bodelschwingh-Schule live zu erleben\, laden wir Sie herzlich zum „Tag der offenen Tür“ ein! Kommen Sie am besten mit Ihrem Kind. Dann können Sie von 10 bis 11.00 Uhr bei der offenen Arbeit dabei sein\, von 11 Uhr bis 11:45 Uhr den Fachunterricht erleben\, sich über die Offene Ganztagsschule (OGS) und die Inklusion informieren und anschließend den Lehrkräften Löcher in den Bauch fragen. \n 
URL:https://bodelschwingh-schule.de/event/tag-der-offenen-tuer/
CATEGORIES:Termine
ATTACH;FMTTYPE=image/png:https://bodelschwingh-schule.de/wp-content/uploads/2025/08/TdoT.png
END:VEVENT
BEGIN:VEVENT
DTSTART;VALUE=DATE:20250922
DTEND;VALUE=DATE:20250923
DTSTAMP:20260423T173101
CREATED:20220819T210102Z
LAST-MODIFIED:20250831T071900Z
UID:1212-1758499200-1758585599@bodelschwingh-schule.de
SUMMARY:Buchgeschenk
DESCRIPTION:Heute überreichen die Lesefreunde Hürth e.V. an alle i-Dötzchen ein Buchgeschenk.
URL:https://bodelschwingh-schule.de/event/buchgeschenk/
CATEGORIES:Termine
ATTACH;FMTTYPE=image/jpeg:https://bodelschwingh-schule.de/wp-content/uploads/2022/09/A1B114FB-EFC5-47E2-88B3-C448AC66E4A8-scaled.jpeg
END:VEVENT
BEGIN:VEVENT
DTSTART;VALUE=DATE:20250929
DTEND;VALUE=DATE:20251011
DTSTAMP:20260423T173101
CREATED:20220819T211802Z
LAST-MODIFIED:20250831T072356Z
UID:1219-1759104000-1760140799@bodelschwingh-schule.de
SUMMARY:Elterngespräche Jahrgang 1
DESCRIPTION:In diesem Zeitraum finden die ersten Elterngespräche für die Erstklässler:innen statt. Hierzu vereinbaren Sie einen individuellen Termin mit der Klassenlehrerin Ihres Kindes.
URL:https://bodelschwingh-schule.de/event/elterngespraeche/
CATEGORIES:Termine
ATTACH;FMTTYPE=image/jpeg:https://bodelschwingh-schule.de/wp-content/uploads/2022/08/077A7D0A-D860-4A95-B208-E55853B7102D.jpeg
END:VEVENT
BEGIN:VEVENT
DTSTART;TZID=Europe/Berlin:20250929T200000
DTEND;TZID=Europe/Berlin:20250929T200000
DTSTAMP:20260423T173101
CREATED:20220817T122207Z
LAST-MODIFIED:20250831T072148Z
UID:1114-1759176000-1759176000@bodelschwingh-schule.de
SUMMARY:Schulpflegschaftssitzung
DESCRIPTION:Um 20:00 Uhr findet bei uns in der Schule für alle gewählten Mitglieder die Schulpflegschaftssitzung statt.
URL:https://bodelschwingh-schule.de/event/schulpflegschaftssitzung/
CATEGORIES:Termine
ATTACH;FMTTYPE=image/jpeg:https://bodelschwingh-schule.de/wp-content/uploads/2022/08/D1B4DDB7-9420-41FF-A700-32DD3F191FB7.jpeg
END:VEVENT
BEGIN:VEVENT
DTSTART;TZID=Europe/Berlin:20250930T183000
DTEND;TZID=Europe/Berlin:20250930T190000
DTSTAMP:20260423T173101
CREATED:20220817T121418Z
LAST-MODIFIED:20250724T073124Z
UID:1106-1759257000-1759258800@bodelschwingh-schule.de
SUMMARY:Lotsenschulung
DESCRIPTION:Heute um 18:30 Uhr lädt unser Verkehrssicherheitsberater\, Herr Polizeihauptkommissar Wiesner\, alle angemeldeten Teilnehmer:innen in die Schule zur Lotsenschulung ein.
URL:https://bodelschwingh-schule.de/event/lotsenschulung/
CATEGORIES:Termine
ATTACH;FMTTYPE=image/jpeg:https://bodelschwingh-schule.de/wp-content/uploads/2022/08/8A73A2DA-5FC7-45B2-9BEB-5CF3211F682D-scaled.jpeg
END:VEVENT
END:VCALENDAR