BEGIN:VCALENDAR
VERSION:2.0
PRODID:-//Bodelschwingh Schule - ECPv6.15.20//NONSGML v1.0//EN
CALSCALE:GREGORIAN
METHOD:PUBLISH
X-ORIGINAL-URL:https://bodelschwingh-schule.de
X-WR-CALDESC:Veranstaltungen für Bodelschwingh Schule
REFRESH-INTERVAL;VALUE=DURATION:PT1H
X-Robots-Tag:noindex
X-PUBLISHED-TTL:PT1H
BEGIN:VTIMEZONE
TZID:Europe/Berlin
BEGIN:DAYLIGHT
TZOFFSETFROM:+0100
TZOFFSETTO:+0200
TZNAME:CEST
DTSTART:20250330T010000
END:DAYLIGHT
BEGIN:STANDARD
TZOFFSETFROM:+0200
TZOFFSETTO:+0100
TZNAME:CET
DTSTART:20251026T010000
END:STANDARD
BEGIN:DAYLIGHT
TZOFFSETFROM:+0100
TZOFFSETTO:+0200
TZNAME:CEST
DTSTART:20260329T010000
END:DAYLIGHT
BEGIN:STANDARD
TZOFFSETFROM:+0200
TZOFFSETTO:+0100
TZNAME:CET
DTSTART:20261025T010000
END:STANDARD
BEGIN:DAYLIGHT
TZOFFSETFROM:+0100
TZOFFSETTO:+0200
TZNAME:CEST
DTSTART:20270328T010000
END:DAYLIGHT
BEGIN:STANDARD
TZOFFSETFROM:+0200
TZOFFSETTO:+0100
TZNAME:CET
DTSTART:20271031T010000
END:STANDARD
END:VTIMEZONE
BEGIN:VEVENT
DTSTART;VALUE=DATE:20260223
DTEND;VALUE=DATE:20260228
DTSTAMP:20260421T112406
CREATED:20230910T083005Z
LAST-MODIFIED:20251123T202408Z
UID:3487-1771804800-1772236799@bodelschwingh-schule.de
SUMMARY:Rollstuhlprojekt 1/2
DESCRIPTION:In diesem Zeitraum findet mit je einer Doppelstunde für alle Klassen 1/2 das Rollstuhlprojekt statt.
URL:https://bodelschwingh-schule.de/event/rollstuhlprojekt-1-2/
CATEGORIES:Termine
ATTACH;FMTTYPE=image/jpeg:https://bodelschwingh-schule.de/wp-content/uploads/2023/09/IMG_1887-scaled.jpeg
END:VEVENT
BEGIN:VEVENT
DTSTART;VALUE=DATE:20260223
DTEND;VALUE=DATE:20260310
DTSTAMP:20260421T112406
CREATED:20230910T085743Z
LAST-MODIFIED:20251123T201838Z
UID:3497-1771804800-1773100799@bodelschwingh-schule.de
SUMMARY:Präventionstheater Jg 4
DESCRIPTION:Ab dem 23.02.26 kommt die Theaterpädagogische Werkstatt Osnabrück zu uns in die Schule und führt in jeweils drei Stunden für alle Jahrgänge 4 das Stück „Mein Körper gehört mir“ auf. Nähere Informationen finden Sie hier.
URL:https://bodelschwingh-schule.de/event/praeventionstheater/
CATEGORIES:Termine
ATTACH;FMTTYPE=image/jpeg:https://bodelschwingh-schule.de/wp-content/uploads/2023/09/IMG_2073.jpeg
END:VEVENT
BEGIN:VEVENT
DTSTART;TZID=Europe/Berlin:20260223T200000
DTEND;TZID=Europe/Berlin:20260223T200000
DTSTAMP:20260421T112406
CREATED:20220820T091118Z
LAST-MODIFIED:20250831T074201Z
UID:1278-1771876800-1771876800@bodelschwingh-schule.de
SUMMARY:Schulpflegschaftssitzung
DESCRIPTION:Um 20:00 Uhr findet bei uns in der Schule für alle gewählten Mitglieder die Schulpflegschaftssitzung statt.
URL:https://bodelschwingh-schule.de/event/schulpflegschaftssitzung-2/
CATEGORIES:Termine
ATTACH;FMTTYPE=image/jpeg:https://bodelschwingh-schule.de/wp-content/uploads/2022/08/D1B4DDB7-9420-41FF-A700-32DD3F191FB7.jpeg
END:VEVENT
END:VCALENDAR