BEGIN:VCALENDAR
VERSION:2.0
PRODID:-//Bodelschwingh Schule - ECPv6.15.20//NONSGML v1.0//EN
CALSCALE:GREGORIAN
METHOD:PUBLISH
X-WR-CALNAME:Bodelschwingh Schule
X-ORIGINAL-URL:https://bodelschwingh-schule.de
X-WR-CALDESC:Veranstaltungen für Bodelschwingh Schule
REFRESH-INTERVAL;VALUE=DURATION:PT1H
X-Robots-Tag:noindex
X-PUBLISHED-TTL:PT1H
BEGIN:VTIMEZONE
TZID:Europe/Berlin
BEGIN:DAYLIGHT
TZOFFSETFROM:+0100
TZOFFSETTO:+0200
TZNAME:CEST
DTSTART:20240331T010000
END:DAYLIGHT
BEGIN:STANDARD
TZOFFSETFROM:+0200
TZOFFSETTO:+0100
TZNAME:CET
DTSTART:20241027T010000
END:STANDARD
BEGIN:DAYLIGHT
TZOFFSETFROM:+0100
TZOFFSETTO:+0200
TZNAME:CEST
DTSTART:20250330T010000
END:DAYLIGHT
BEGIN:STANDARD
TZOFFSETFROM:+0200
TZOFFSETTO:+0100
TZNAME:CET
DTSTART:20251026T010000
END:STANDARD
BEGIN:DAYLIGHT
TZOFFSETFROM:+0100
TZOFFSETTO:+0200
TZNAME:CEST
DTSTART:20260329T010000
END:DAYLIGHT
BEGIN:STANDARD
TZOFFSETFROM:+0200
TZOFFSETTO:+0100
TZNAME:CET
DTSTART:20261025T010000
END:STANDARD
END:VTIMEZONE
BEGIN:VEVENT
DTSTART;VALUE=DATE:20251113
DTEND;VALUE=DATE:20251118
DTSTAMP:20260423T154943
CREATED:20220820T082045Z
LAST-MODIFIED:20250724T073941Z
UID:1237-1762992000-1763423999@bodelschwingh-schule.de
SUMMARY:Schülersprechtage
DESCRIPTION:Am Donnerstag\, 13.11.25 und Montag 17.11.25 finden für die Kinder der Jahrgänge 2-4 die Schüler:innen-Gespräche statt.\nAm Montag\, 17.11.25 ist von der 3.-6. Stunde für ALLE Kinder Bewegungstag – bitte sportlich gekleidet zur Schule kommen!
URL:https://bodelschwingh-schule.de/event/schuelerinnen-sprechtage/
CATEGORIES:Termine
ATTACH;FMTTYPE=image/jpeg:https://bodelschwingh-schule.de/wp-content/uploads/2022/08/81243F55-20AE-4D0B-9B7D-9BCB4D96ECF4.jpeg
END:VEVENT
END:VCALENDAR