BEGIN:VCALENDAR
VERSION:2.0
PRODID:-//Bodelschwingh Schule - ECPv6.15.20//NONSGML v1.0//EN
CALSCALE:GREGORIAN
METHOD:PUBLISH
X-ORIGINAL-URL:https://bodelschwingh-schule.de
X-WR-CALDESC:Veranstaltungen für Bodelschwingh Schule
REFRESH-INTERVAL;VALUE=DURATION:PT1H
X-Robots-Tag:noindex
X-PUBLISHED-TTL:PT1H
BEGIN:VTIMEZONE
TZID:Europe/Berlin
BEGIN:DAYLIGHT
TZOFFSETFROM:+0100
TZOFFSETTO:+0200
TZNAME:CEST
DTSTART:20240331T010000
END:DAYLIGHT
BEGIN:STANDARD
TZOFFSETFROM:+0200
TZOFFSETTO:+0100
TZNAME:CET
DTSTART:20241027T010000
END:STANDARD
BEGIN:DAYLIGHT
TZOFFSETFROM:+0100
TZOFFSETTO:+0200
TZNAME:CEST
DTSTART:20250330T010000
END:DAYLIGHT
BEGIN:STANDARD
TZOFFSETFROM:+0200
TZOFFSETTO:+0100
TZNAME:CET
DTSTART:20251026T010000
END:STANDARD
BEGIN:DAYLIGHT
TZOFFSETFROM:+0100
TZOFFSETTO:+0200
TZNAME:CEST
DTSTART:20260329T010000
END:DAYLIGHT
BEGIN:STANDARD
TZOFFSETFROM:+0200
TZOFFSETTO:+0100
TZNAME:CET
DTSTART:20261025T010000
END:STANDARD
END:VTIMEZONE
BEGIN:VEVENT
DTSTART;VALUE=DATE:20251007
DTEND;VALUE=DATE:20251101
DTSTAMP:20260423T173150
CREATED:20220819T213836Z
LAST-MODIFIED:20250831T072856Z
UID:1232-1759795200-1761955199@bodelschwingh-schule.de
SUMMARY:Schulanmeldung
DESCRIPTION:Im Zeitraum 07.10.25 – 31.10.25 können Sie Ihre Kinder (Schulanfänger:innen 2026/2027) nach vorheriger Terminvereinbarung bei uns an der Schule anmelden. \nDie Termine zur Schulanmeldung sowie weitere Informationen dazu finden Sie hier.
URL:https://bodelschwingh-schule.de/event/schulanmeldung/
CATEGORIES:Termine
ATTACH;FMTTYPE=image/jpeg:https://bodelschwingh-schule.de/wp-content/uploads/2022/08/0279A02F-B7BB-4DD9-9DC4-9471AB2D709F.jpeg
END:VEVENT
BEGIN:VEVENT
DTSTART;VALUE=DATE:20251013
DTEND;VALUE=DATE:20251027
DTSTAMP:20260423T173150
CREATED:20220819T212121Z
LAST-MODIFIED:20250724T073508Z
UID:1221-1760313600-1761523199@bodelschwingh-schule.de
SUMMARY:Herbstferien
DESCRIPTION:
URL:https://bodelschwingh-schule.de/event/herbstferien/
CATEGORIES:Termine
ATTACH;FMTTYPE=image/jpeg:https://bodelschwingh-schule.de/wp-content/uploads/2022/08/6DBDBB9E-832D-47B5-93E3-86E32F21334C.jpeg
END:VEVENT
END:VCALENDAR